BEGIN:VCALENDAR
VERSION:2.0
PRODID:-//Brinkburn St Brewery, Bar &amp; Kitchen - ECPv5.14.0.4//NONSGML v1.0//EN
CALSCALE:GREGORIAN
METHOD:PUBLISH
X-WR-CALNAME:Brinkburn St Brewery, Bar &amp; Kitchen
X-ORIGINAL-URL:https://brewery.brinkburnbrewery.co.uk
X-WR-CALDESC:Events for Brinkburn St Brewery, Bar &amp; Kitchen
REFRESH-INTERVAL;VALUE=DURATION:PT1H
X-Robots-Tag:noindex
X-PUBLISHED-TTL:PT1H
BEGIN:VTIMEZONE
TZID:Europe/London
BEGIN:DAYLIGHT
TZOFFSETFROM:+0000
TZOFFSETTO:+0100
TZNAME:BST
DTSTART:20220327T010000
END:DAYLIGHT
BEGIN:STANDARD
TZOFFSETFROM:+0100
TZOFFSETTO:+0000
TZNAME:GMT
DTSTART:20221030T010000
END:STANDARD
END:VTIMEZONE
BEGIN:VEVENT
DTSTART;TZID=Europe/London:20220129T120000
DTEND;TZID=Europe/London:20220129T235900
DTSTAMP:20260421T221638
CREATED:20220118T073837Z
LAST-MODIFIED:20220123T205618Z
UID:2016-1643457600-1643500740@brewery.brinkburnbrewery.co.uk
SUMMARY:UNITY: Records\, Art\, Food and All Day Party
DESCRIPTION:UNITY: Records\, Art\, Food and All Day Party  \nJoin us on the 29th January from 12PM-12AM.  \nOur Big Pub will be full of music\, live art\, food\, record stalls\, art stalls & an all day long party!  \nAlso\, joining the gang is some of the finest DJs in Newcastle.  \nWe’ll be including some fun for the kids and dogs are welcome too?
URL:https://brewery.brinkburnbrewery.co.uk/event/unity-records-art-food-and-all-day-party/
LOCATION:Brinkburn St Brewery\, Bar & Kitchen\, Brinkburn St Brewery\, Bar & Kitchen\, Unit 1A\, Ford Street\, Newcastle Upon Tyne\, Tyne and Wear\, NE6 1NW\, United Kingdom
CATEGORIES:One Off Events
ATTACH;FMTTYPE=image/jpeg:https://brewery.brinkburnbrewery.co.uk/wp-content/uploads/2022/01/271261834_3000864906844091_3082709023482935671_n.jpg
END:VEVENT
END:VCALENDAR